Workbook
Name essai: '[1]récap 2010'!#REF!
Name essai: '[1]récap 2010'!#REF!
Name essai: '[1]récap 2010'!#REF!
Name essai2: '[1]récap 2010'!#REF!
Name essai2: '[1]récap 2010'!#REF!
Name essai2: '[1]récap 2010'!#REF!
Name essai3: #REF!
Name essai3: #REF!
Name essai3: #REF!
Name Habitués: '[1]récap 2010'!#REF!
Name Habitués: '[1]récap 2010'!#REF!
Name Habitués: '[1]récap 2010'!#REF!
Name RONDEAU: '[1]récap 2010'!#REF!
Name RONDEAU: '[1]récap 2010'!#REF!
Name RONDEAU: '[1]récap 2010'!#REF!
Name sdmfubjsldfp: '[1]récap 2010'!#REF!
Name Statistiques_2011: #REF!
Name Statistiques_2011: #REF!
Name Statistiques_2011: #REF!

Sheet Nuitées
B1: NUITÉES
B2: 2022 | C2: 2023 | D2: 2024 | E2: 2025
A3: Déclarées à l'INSEE

Sheet EAU
B1: EAU
B2: 2022 | C2: 2023 | D2: 2024 | E2: 2025
A3: Quantité en m³
A4: Montant € HT
A5: Prix €/m³ | B5: =IFERROR((B4/B3),0) -> 0 | C5: =IFERROR((C4/C3),0) -> 0 | D5: =IFERROR((D4/D3),0) -> 0 | E5: =IFERROR((E4/E3),0) -> 0
A6: Nombre de nuitées | B6: =Nuitées!B3 -> 0 | C6: =Nuitées!C3 -> 0 | D6: =Nuitées!D3 -> 0 | E6: =Nuitées!E3 -> 0
A7: Centimes / nuitée | B7: =IFERROR((B4/B6)*100,0) -> 0 | C7: =IFERROR((C4/C6)*100,0) -> 0 | D7: =IFERROR((D4/D6)*100,0) -> 0 | E7: =IFERROR((E4/E6)*100,0) -> 0
A8: Litres / nuitée | B8: =IFERROR(B3*1000/B6,0) -> 0 | C8: =IFERROR(C3*1000/C6,0) -> 0 | D8: =IFERROR(D3*1000/D6,0) -> 0 | E8: =IFERROR(E3*1000/E6,0) -> 0
A9: NOTES (ex : actions de sobriété, investissements réalisés...)

Sheet ÉLEC
B1: ÉLECTRICITÉ consommation
B2: 2022 | C2: 2023 | D2: 2024 | E2: 2025
A3: Quantité en kWh
A4: Montant € HT
A5: Prix €/kWh | B5: =IFERROR(B4/B3,0) -> 0 | C5: =IFERROR(C4/C3,0) -> 0 | D5: =IFERROR(D4/D3,0) -> 0 | E5: =IFERROR(E4/E3,0) -> 0
A6: Nb de nuitées | B6: =Nuitées!B3 -> 0 | C6: =Nuitées!C3 -> 0 | D6: =Nuitées!D3 -> 0 | E6: =Nuitées!E3 -> 0
A7: Centimes / nuitée | B7: =IFERROR((B4/B6)*100,0) -> 0 | C7: =IFERROR((C4/C6)*100,0) -> 0 | D7: =IFERROR((D4/D6)*100,0) -> 0 | E7: =IFERROR((E4/E6)*100,0) -> 0
A8: kWh / nuitée | B8: =IFERROR(B3/B6,0) -> 0 | C8: =IFERROR(C3/C6,0) -> 0 | D8: =IFERROR(D3/D6,0) -> 0 | E8: =IFERROR(E3/E6,0) -> 0
A9: Grammes de CO2 / nuitée | B9: =IFERROR(B8*64,0) -> 0 | C9: =IFERROR(C8*64,0) -> 0 | D9: =IFERROR(D8*64,0) -> 0 | E9: =IFERROR(E8*64,0) -> 0
A10: NOTES (ex : actions de sobriété, investissements réalisés...)
B18: ÉLECTRICITÉ production
B19: 2022 | C19: 2023 | D19: 2024 | E19: 2025
A20: Quantité en kWh
A21: Montant € HT
A22: Prix €/kWh | B22: =IFERROR(B21/B20,0) -> 0 | C22: =IFERROR(C21/C20,0) -> 0 | D22: =IFERROR(D21/D20,0) -> 0 | E22: =IFERROR(E21/E20,0) -> 0
A23: Nb de nuitées | B23: =Nuitées!B3 -> 0 | C23: =Nuitées!C3 -> 0 | D23: =Nuitées!D3 -> 0 | E23: =Nuitées!E3 -> 0
A24: Centimes / nuitée | B24: =IFERROR((B21/B23)*100,0) -> 0 | C24: =IFERROR((C21/C23)*100,0) -> 0 | D24: =IFERROR((D21/D23)*100,0) -> 0 | E24: =IFERROR((E21/E23)*100,0) -> 0
A25: kWh / nuitée | B25: =IFERROR(B20/B23,0) -> 0 | C25: =IFERROR(C20/C23,0) -> 0 | D25: =IFERROR(D20/D23,0) -> 0 | E25: =IFERROR(E20/E23,0) -> 0
A26: NOTES (ex : actions, investissements réalisés...)

Sheet GAZ
B1: GAZ (propane ou butane)
B2: 2022 | C2: 2023 | D2: 2024 | E2: 2025
A3: Quantité en kWh
A4: Montant € HT
A5: Prix €/kWh | B5: =IFERROR((B4/B3),0) -> 0 | C5: =IFERROR((C4/#REF!),0) -> 0 | D5: =IFERROR((D4/#REF!),0) -> 0 | E5: =IFERROR((E4/#REF!),0) -> 0
A6: Nb de nuitées | B6: =Nuitées!B3 -> 0 | C6: =Nuitées!C3 -> 0 | D6: =Nuitées!D3 -> 0 | E6: =Nuitées!E3 -> 0
A7: Centimes € / nuitée | B7: =IFERROR((B4/B6)*100,0) -> 0 | C7: =IFERROR((C4/C6)*100,0) -> 0 | D7: =IFERROR((D4/D6)*100,0) -> 0 | E7: =IFERROR((E4/E6)*100,0) -> 0
A8: kWh / nuitée | B8: =IFERROR(B3/B6,0) -> 0 | C8: =IFERROR(C3/C6,0) -> 0 | D8: =IFERROR(D3/D6,0) -> 0 | E8: =IFERROR(E3/E6,0) -> 0
A9: Grammes de CO2 / nuitée | B9: =IFERROR(B8*272,0) -> 0 | C9: =IFERROR(C8*272,0) -> 0 | D9: =IFERROR(D8*272,0) -> 0 | E9: =IFERROR(E8*272,0) -> 0
A10: NOTES (ex : actions de sobriété, investissements réalisés...)
A14: Convertisseur
A15: Gaz en Tonnes | B15: 1
A16: Gaz en kWh | B16: =B15*12800 -> 12800

Sheet FIOUL
B1: FIOUL
B2: 2022 | C2: 2023 | D2: 2024 | E2: 2025
A3: Quantité en kWh
A4: Montant € HT
A5: Prix €/kWh | B5: =IFERROR((B4/B3),0) -> 0 | C5: =IFERROR((C4/#REF!),0) -> 0 | D5: =IFERROR((D4/#REF!),0) -> 0 | E5: =IFERROR((E4/#REF!),0) -> 0
A6: Nb de nuitées | B6: =Nuitées!B3 -> 0 | C6: =Nuitées!C3 -> 0 | D6: =Nuitées!D3 -> 0 | E6: =Nuitées!E3 -> 0
A7: Centimes € / nuitée | B7: =IFERROR((B4/B6)*100,0) -> 0 | C7: =IFERROR((C4/C6)*100,0) -> 0 | D7: =IFERROR((D4/D6)*100,0) -> 0 | E7: =IFERROR((E4/E6)*100,0) -> 0
A8: kWh / nuitée | B8: =IFERROR(B3/B6,0) -> 0 | C8: =IFERROR(C3/C6,0) -> 0 | D8: =IFERROR(D3/D6,0) -> 0 | E8: =IFERROR(E3/E6,0) -> 0
A9: Grammes de CO2 / nuitée | B9: =IFERROR(B8*324,0) -> 0 | C9: =IFERROR(C8*324,0) -> 0 | D9: =IFERROR(D8*324,0) -> 0 | E9: =IFERROR(E8*324,0) -> 0
A10: NOTES (ex : actions de sobriété, investissements réalisés...)
A14: Convertisseur
A15: Fioul en litres | B15: 1000
A16: Fioul en kWh | B16: =B15*10 -> 10000

Sheet ÉNERGIE
B1: ÉNERGIE = électricité + gaz + fioul *
B2: 2022 | C2: 2023 | D2: 2024 | E2: 2025
A3: Quantité en kWh | B3: =ÉLEC!B3+GAZ!B3+FIOUL!B3 -> 0 | C3: =ÉLEC!C3+GAZ!C3+FIOUL!C3 -> 0 | D3: =ÉLEC!D3+GAZ!D3+FIOUL!D3 -> 0 | E3: =ÉLEC!E3+GAZ!E3+FIOUL!E3 -> 0
A4: Montant € HT | B4: =ÉLEC!B4+GAZ!B4+FIOUL!B4 -> 0 | C4: =ÉLEC!C4+GAZ!C4+FIOUL!C4 -> 0 | D4: =ÉLEC!D4+GAZ!D4+FIOUL!D4 -> 0 | E4: =ÉLEC!E4+GAZ!E4+FIOUL!E4 -> 0
A5: Prix €/kWh | B5: =IFERROR(B4/B3,0) -> 0 | C5: =IFERROR(C4/C3,0) -> 0 | D5: =IFERROR(D4/D3,0) -> 0 | E5: =IFERROR(E4/E3,0) -> 0
A6: Nb de nuitées | B6: =Nuitées!B3 -> 0 | C6: =Nuitées!C3 -> 0 | D6: =Nuitées!D3 -> 0 | E6: =Nuitées!E3 -> 0
A7: Centimes / nuitée | B7: =IFERROR((B4/B6)*100,0) -> 0 | C7: =IFERROR((C4/C6)*100,0) -> 0 | D7: =IFERROR((D4/D6)*100,0) -> 0 | E7: =IFERROR((E4/E6)*100,0) -> 0
A8: kWh / nuitée | B8: =IFERROR(B3/B6,0) -> 0 | C8: =IFERROR(C3/C6,0) -> 0 | D8: =IFERROR(D3/D6,0) -> 0 | E8: =IFERROR(E3/E6,0) -> 0
A9: Grammes de CO2 / nuitée | B9: =IFERROR(ÉLEC!B9+GAZ!B9+FIOUL!B9,0) -> 0 | C9: =IFERROR(ÉLEC!C9+GAZ!C9+FIOUL!C9,0) -> 0 | D9: =IFERROR(ÉLEC!D9+GAZ!D9+FIOUL!D9,0) -> 0 | E9: =IFERROR(ÉLEC!E9+GAZ!E9+FIOUL!E9,0) -> 0
A10: NOTES
A12: * Votre mix énergétique peut comprendre d'autres sources d'énergie que celles additionnées ici.
A13: Ces autres sources d'énergie peuvent faire l'objet du même type de suivi par nuitée. Pour cela, créer de la même façon autant d'onglets que nécessaire.
A14: Pour le calcul de l'impact CO2, voici les coefficients applicables pour d'autres types d'énergies que celles traitées dans cet exemple :
A39: Source : ADEME - 2024 (conformément aux valeurs fixées par le décret tertiaire)

Sheet OM
B1: ORDURES MÉNAGÈRES
B2: 2022 | C2: 2023 | D2: 2024 | E2: 2025
A3: Quantité en tonnes
A4: Montant € HT
A5: Prix €/tonne | B5: =IFERROR((B4/B3),0) -> 0 | C5: =IFERROR((C4/#REF!),0) -> 0 | D5: =IFERROR((D4/#REF!),0) -> 0 | E5: =IFERROR((E4/#REF!),0) -> 0
A6: Nb de nuitées | B6: =Nuitées!B3 -> 0 | C6: =Nuitées!C3 -> 0 | D6: =Nuitées!D3 -> 0 | E6: =Nuitées!E3 -> 0
A7: Centimes € / nuitée | B7: =IFERROR((B4/B6)*100,0) -> 0 | C7: =IFERROR((C4/C6)*100,0) -> 0 | D7: =IFERROR((D4/D6)*100,0) -> 0 | E7: =IFERROR((E4/E6)*100,0) -> 0
A8: kg / nuitée | B8: =IFERROR(B3*1000/B6,0) -> 0 | C8: =IFERROR(C3*1000/C6,0) -> 0 | D8: =IFERROR(D3*1000/D6,0) -> 0 | E8: =IFERROR(E3*1000/E6,0) -> 0
A9: NOTES (ex : actions, investissements réalisés...)
